BEGIN:VCALENDAR
VERSION:2.0
PRODID:-//JBLaw - ECPv6.13.2.1//NONSGML v1.0//EN
CALSCALE:GREGORIAN
METHOD:PUBLISH
X-WR-CALNAME:JBLaw
X-ORIGINAL-URL:https://jblaw.biz
X-WR-CALDESC:Events for JBLaw
REFRESH-INTERVAL;VALUE=DURATION:PT1H
X-Robots-Tag:noindex
X-PUBLISHED-TTL:PT1H
BEGIN:VTIMEZONE
TZID:America/Detroit
BEGIN:DAYLIGHT
TZOFFSETFROM:-0500
TZOFFSETTO:-0400
TZNAME:EDT
DTSTART:20180311T070000
END:DAYLIGHT
BEGIN:STANDARD
TZOFFSETFROM:-0400
TZOFFSETTO:-0500
TZNAME:EST
DTSTART:20181104T060000
END:STANDARD
END:VTIMEZONE
BEGIN:VEVENT
DTSTART;TZID=America/Detroit:20180407T130000
DTEND;TZID=America/Detroit:20180407T140000
DTSTAMP:20260425T104412
CREATED:20180401T095955Z
LAST-MODIFIED:20180401T101859Z
UID:3341-1523106000-1523109600@jblaw.biz
SUMMARY:Will of Fortune: Busting the Myth That You Have to Have a Fortune to Need a Will
DESCRIPTION:This *FREE* one-hour interactive learning session will examine the basic Georgia requirements for executing a valid Will and what happens when you DON’T have a Will. \nAlthough this is a FREE workshop\, registration is required and seating is limited. So register NOW!
URL:https://jblaw.biz/events/workshop/
LOCATION:Lay It Down Fitness & Nutrition Center\, Suite #2\, 4880 Lawrenceville Highway\, Tucker\, GA\, 30084\, United States
ORGANIZER;CN="The Law Office of JB Hilliard%2C LLC":MAILTO:jb@jblaw.biz
END:VEVENT
END:VCALENDAR